BEGIN:VCALENDAR
VERSION:2.0
PRODID:-//Chris Nelson - ECPv6.0.1.1//NONSGML v1.0//EN
CALSCALE:GREGORIAN
METHOD:PUBLISH
X-WR-CALNAME:Chris Nelson
X-ORIGINAL-URL:https://nelsonforsd.com
X-WR-CALDESC:Events for Chris Nelson
REFRESH-INTERVAL;VALUE=DURATION:PT1H
X-Robots-Tag:noindex
X-PUBLISHED-TTL:PT1H
BEGIN:VTIMEZONE
TZID:America/Chicago
BEGIN:DAYLIGHT
TZOFFSETFROM:-0600
TZOFFSETTO:-0500
TZNAME:CDT
DTSTART:20220313T080000
END:DAYLIGHT
BEGIN:STANDARD
TZOFFSETFROM:-0500
TZOFFSETTO:-0600
TZNAME:CST
DTSTART:20221106T070000
END:STANDARD
END:VTIMEZONE
BEGIN:VEVENT
DTSTART;TZID=America/Chicago:20220702T103000
DTEND;TZID=America/Chicago:20220702T113000
DTSTAMP:20260423T212506
CREATED:20220626T231316Z
LAST-MODIFIED:20220626T231316Z
UID:10489-1656757800-1656761400@nelsonforsd.com
SUMMARY:Gayville 150th Anniversary Celebration Parade
DESCRIPTION:
URL:https://nelsonforsd.com/event/gayville-150th-anniversary-celebration-parade/
CATEGORIES:Gayville
END:VEVENT
BEGIN:VEVENT
DTSTART;TZID=America/Chicago:20220702T150000
DTEND;TZID=America/Chicago:20220702T203000
DTSTAMP:20260423T212506
CREATED:20220627T112805Z
LAST-MODIFIED:20220627T112805Z
UID:10495-1656774000-1656793800@nelsonforsd.com
SUMMARY:Parkston Celebration
DESCRIPTION:
URL:https://nelsonforsd.com/event/parkston-celebration/
END:VEVENT
BEGIN:VEVENT
DTSTART;TZID=America/Chicago:20220704T103000
DTEND;TZID=America/Chicago:20220704T120000
DTSTAMP:20260423T212506
CREATED:20220616T015011Z
LAST-MODIFIED:20220616T015011Z
UID:10480-1656930600-1656936000@nelsonforsd.com
SUMMARY:Lennox 4th of July Parade
DESCRIPTION:
URL:https://nelsonforsd.com/event/lennox-4th-of-july-parade/
CATEGORIES:Lennox
END:VEVENT
BEGIN:VEVENT
DTSTART;TZID=America/Chicago:20220704T140000
DTEND;TZID=America/Chicago:20220704T153000
DTSTAMP:20260423T212506
CREATED:20220616T015101Z
LAST-MODIFIED:20220616T015301Z
UID:10482-1656943200-1656948600@nelsonforsd.com
SUMMARY:Watertown Independence Day Parade
DESCRIPTION:
URL:https://nelsonforsd.com/event/watertown-4th-of-july-parade/
CATEGORIES:Watertown
END:VEVENT
BEGIN:VEVENT
DTSTART;TZID=America/Chicago:20220708T173000
DTEND;TZID=America/Chicago:20220708T200000
DTSTAMP:20260423T212506
CREATED:20220626T232834Z
LAST-MODIFIED:20220626T232834Z
UID:10493-1657301400-1657310400@nelsonforsd.com
SUMMARY:White Lake High School Alumni Banquet
DESCRIPTION:
URL:https://nelsonforsd.com/event/white-lake-high-school-alumni-banquet/
CATEGORIES:White Lake
END:VEVENT
BEGIN:VEVENT
DTSTART;TZID=America/Chicago:20220716T103000
DTEND;TZID=America/Chicago:20220716T120000
DTSTAMP:20260423T212506
CREATED:20220626T231923Z
LAST-MODIFIED:20220626T231923Z
UID:10491-1657967400-1657972800@nelsonforsd.com
SUMMARY:Corn Palace Stampede Rodeo Parade
DESCRIPTION:
URL:https://nelsonforsd.com/event/corn-palace-stampede-rodeo-parade-2/
CATEGORIES:Mitchell
END:VEVENT
BEGIN:VEVENT
DTSTART;TZID=America/Chicago:20220721T180000
DTEND;TZID=America/Chicago:20220721T190000
DTSTAMP:20260423T212506
CREATED:20220714T170357Z
LAST-MODIFIED:20220714T170357Z
UID:10500-1658426400-1658430000@nelsonforsd.com
SUMMARY:Moody County Fair Parade
DESCRIPTION:
URL:https://nelsonforsd.com/event/moody-county-fair-parade/
CATEGORIES:Flandreau
END:VEVENT
BEGIN:VEVENT
DTSTART;TZID=America/Chicago:20220723T100000
DTEND;TZID=America/Chicago:20220723T120000
DTSTAMP:20260423T212506
CREATED:20220717T181131Z
LAST-MODIFIED:20220717T181131Z
UID:10506-1658570400-1658577600@nelsonforsd.com
SUMMARY:Colton Country Days Parade
DESCRIPTION:
URL:https://nelsonforsd.com/event/colton-country-days-parade/
CATEGORIES:Colton
END:VEVENT
BEGIN:VEVENT
DTSTART;VALUE=DATE:20220727
DTEND;VALUE=DATE:20220728
DTSTAMP:20260423T212506
CREATED:20220725T005040Z
LAST-MODIFIED:20220725T005040Z
UID:10513-1658880000-1658966399@nelsonforsd.com
SUMMARY:Speak at Teen Age Republican Camp
DESCRIPTION:
URL:https://nelsonforsd.com/event/speak-at-teen-age-republican-camp/
CATEGORIES:Rapid City
END:VEVENT
BEGIN:VEVENT
DTSTART;VALUE=DATE:20220730
DTEND;VALUE=DATE:20220731
DTSTAMP:20260423T212506
CREATED:20220714T171250Z
LAST-MODIFIED:20220714T171250Z
UID:10504-1659139200-1659225599@nelsonforsd.com
SUMMARY:Freeman Chislic Festival
DESCRIPTION:
URL:https://nelsonforsd.com/event/freeman-chislic-festival/
CATEGORIES:Freeman
END:VEVENT
BEGIN:VEVENT
DTSTART;TZID=America/Chicago:20220730T100000
DTEND;TZID=America/Chicago:20220730T110000
DTSTAMP:20260423T212506
CREATED:20220714T171130Z
LAST-MODIFIED:20220714T171130Z
UID:10502-1659175200-1659178800@nelsonforsd.com
SUMMARY:Milbank Farley Fest Parade
DESCRIPTION:
URL:https://nelsonforsd.com/event/milbank-farley-fest-parade/
CATEGORIES:Milbank
END:VEVENT
END:VCALENDAR