BEGIN:VCALENDAR
VERSION:2.0
PRODID:-//Chris Nelson - ECPv6.0.1.1//NONSGML v1.0//EN
CALSCALE:GREGORIAN
METHOD:PUBLISH
X-WR-CALNAME:Chris Nelson
X-ORIGINAL-URL:https://nelsonforsd.com
X-WR-CALDESC:Events for Chris Nelson
REFRESH-INTERVAL;VALUE=DURATION:PT1H
X-Robots-Tag:noindex
X-PUBLISHED-TTL:PT1H
BEGIN:VTIMEZONE
TZID:America/Chicago
BEGIN:DAYLIGHT
TZOFFSETFROM:-0600
TZOFFSETTO:-0500
TZNAME:CDT
DTSTART:20220313T080000
END:DAYLIGHT
BEGIN:STANDARD
TZOFFSETFROM:-0500
TZOFFSETTO:-0600
TZNAME:CST
DTSTART:20221106T070000
END:STANDARD
END:VTIMEZONE
BEGIN:VEVENT
DTSTART;TZID=America/Chicago:20220503T180000
DTEND;TZID=America/Chicago:20220503T203000
DTSTAMP:20260423T181553
CREATED:20220419T234620Z
LAST-MODIFIED:20220419T234620Z
UID:10465-1651600800-1651609800@nelsonforsd.com
SUMMARY:Lake County Lincoln Day Dinner
DESCRIPTION:
URL:https://nelsonforsd.com/event/lake-county-lincoln-day-dinner/
LOCATION:Nicky’s
CATEGORIES:Madison
END:VEVENT
BEGIN:VEVENT
DTSTART;TZID=America/Chicago:20220506T173000
DTEND;TZID=America/Chicago:20220506T203000
DTSTAMP:20260423T181553
CREATED:20220219T180642Z
LAST-MODIFIED:20220219T180642Z
UID:10393-1651858200-1651869000@nelsonforsd.com
SUMMARY:Codington County Lincoln Day Dinner
DESCRIPTION:
URL:https://nelsonforsd.com/event/codington-county-lincoln-day-dinner/
LOCATION:Watertown Event Center\, 1901 9th Ave SW\, Watertown
CATEGORIES:Watertown
END:VEVENT
BEGIN:VEVENT
DTSTART;TZID=America/Chicago:20220507T073000
DTEND;TZID=America/Chicago:20220507T220000
DTSTAMP:20260423T181553
CREATED:20220219T181058Z
LAST-MODIFIED:20220219T181058Z
UID:10396-1651908600-1651960800@nelsonforsd.com
SUMMARY:Avera Race Against Cancer
DESCRIPTION:
URL:https://nelsonforsd.com/event/avera-race-against-cancer/
CATEGORIES:Sioux Falls
END:VEVENT
BEGIN:VEVENT
DTSTART;TZID=America/Chicago:20220510T173000
DTEND;TZID=America/Chicago:20220510T210000
DTSTAMP:20260423T181553
CREATED:20220407T121255Z
LAST-MODIFIED:20220407T121255Z
UID:10449-1652203800-1652216400@nelsonforsd.com
SUMMARY:Beadle County Lincoln Day Dinner
DESCRIPTION:
URL:https://nelsonforsd.com/event/beadle-county-lincoln-day-dinner/
LOCATION:Crossroads Event Center\, Huron
CATEGORIES:Huron
END:VEVENT
BEGIN:VEVENT
DTSTART;TZID=America/Chicago:20220513T173000
DTEND;TZID=America/Chicago:20220513T210000
DTSTAMP:20260423T181553
CREATED:20220219T181315Z
LAST-MODIFIED:20220219T181315Z
UID:10399-1652463000-1652475600@nelsonforsd.com
SUMMARY:Meade County Lincoln Day Dinner
DESCRIPTION:
URL:https://nelsonforsd.com/event/meade-county-lincoln-day-dinner/
LOCATION:Sturgis Auditorium\, 1019 Main St\, Sturgis
CATEGORIES:Sturgis
END:VEVENT
BEGIN:VEVENT
DTSTART;TZID=America/Chicago:20220514T180000
DTEND;TZID=America/Chicago:20220514T210000
DTSTAMP:20260423T181553
CREATED:20220219T181554Z
LAST-MODIFIED:20220219T181554Z
UID:10402-1652551200-1652562000@nelsonforsd.com
SUMMARY:Pennington County Lincoln Day Dinner
DESCRIPTION:
URL:https://nelsonforsd.com/event/pennington-county-lincoln-day-dinner/
LOCATION:Ramkota Rapid City\, 2111 N LaCrosse Street\, Rapid City
CATEGORIES:Rapid City
END:VEVENT
BEGIN:VEVENT
DTSTART;TZID=America/Chicago:20220519T173000
DTEND;TZID=America/Chicago:20220519T210000
DTSTAMP:20260423T181553
CREATED:20220407T121710Z
LAST-MODIFIED:20220407T121710Z
UID:10453-1652981400-1652994000@nelsonforsd.com
SUMMARY:Clay County Lincoln Day Dinner
DESCRIPTION:
URL:https://nelsonforsd.com/event/clay-county-lincoln-day-dinner/
LOCATION:Old Lumber Company\, 15 Court St\, Vermillion
CATEGORIES:Vermillion
END:VEVENT
BEGIN:VEVENT
DTSTART;TZID=America/Chicago:20220526T173000
DTEND;TZID=America/Chicago:20220526T210000
DTSTAMP:20260423T181553
CREATED:20220407T121934Z
LAST-MODIFIED:20220407T121934Z
UID:10456-1653586200-1653598800@nelsonforsd.com
SUMMARY:Brule-Lyman County Lincoln Day Dinner
DESCRIPTION:
URL:https://nelsonforsd.com/event/brule-lyman-county-lincoln-day-dinner/
LOCATION:Cedar Shore Resort
CATEGORIES:Oacoma
END:VEVENT
END:VCALENDAR