BEGIN:VCALENDAR
VERSION:2.0
PRODID:-//Chris Nelson - ECPv6.0.1.1//NONSGML v1.0//EN
CALSCALE:GREGORIAN
METHOD:PUBLISH
X-WR-CALNAME:Chris Nelson
X-ORIGINAL-URL:https://nelsonforsd.com
X-WR-CALDESC:Events for Chris Nelson
REFRESH-INTERVAL;VALUE=DURATION:PT1H
X-Robots-Tag:noindex
X-PUBLISHED-TTL:PT1H
BEGIN:VTIMEZONE
TZID:America/Chicago
BEGIN:DAYLIGHT
TZOFFSETFROM:-0600
TZOFFSETTO:-0500
TZNAME:CDT
DTSTART:20220313T080000
END:DAYLIGHT
BEGIN:STANDARD
TZOFFSETFROM:-0500
TZOFFSETTO:-0600
TZNAME:CST
DTSTART:20221106T070000
END:STANDARD
END:VTIMEZONE
BEGIN:VEVENT
DTSTART;VALUE=DATE:20220405
DTEND;VALUE=DATE:20220406
DTSTAMP:20260423T145743
CREATED:20220219T174918Z
LAST-MODIFIED:20220219T174918Z
UID:10375-1649116800-1649203199@nelsonforsd.com
SUMMARY:Custer County Republicans Monthly Meeting
DESCRIPTION:
URL:https://nelsonforsd.com/event/custer-county-republicans-monthly-meeting/
CATEGORIES:Hermosa
END:VEVENT
BEGIN:VEVENT
DTSTART;TZID=America/Chicago:20220421T113000
DTEND;TZID=America/Chicago:20220421T130000
DTSTAMP:20260423T145743
CREATED:20220419T234440Z
LAST-MODIFIED:20220419T234440Z
UID:10462-1650540600-1650546000@nelsonforsd.com
SUMMARY:Brown County Republican Women
DESCRIPTION:
URL:https://nelsonforsd.com/event/brown-county-republican-women/
LOCATION:The Flame
CATEGORIES:Aberdeen
END:VEVENT
BEGIN:VEVENT
DTSTART;TZID=America/Chicago:20220421T180000
DTEND;TZID=America/Chicago:20220421T210000
DTSTAMP:20260423T145743
CREATED:20220219T175204Z
LAST-MODIFIED:20220219T175204Z
UID:10377-1650564000-1650574800@nelsonforsd.com
SUMMARY:Brown County Lincoln Day Dinner
DESCRIPTION:
URL:https://nelsonforsd.com/event/brown-county-lincoln-day-dinner/
CATEGORIES:Aberdeen
END:VEVENT
BEGIN:VEVENT
DTSTART;TZID=America/Chicago:20220422T170000
DTEND;TZID=America/Chicago:20220422T200000
DTSTAMP:20260423T145743
CREATED:20220219T175540Z
LAST-MODIFIED:20220407T121457Z
UID:10379-1650646800-1650657600@nelsonforsd.com
SUMMARY:Brookings and Moody County Lincoln Day Dinner
DESCRIPTION:
URL:https://nelsonforsd.com/event/brookings-county-lincoln-day-dinner/
LOCATION:Swiftel Center\, 824 32nd Ave\, Brookings
CATEGORIES:Brookings
END:VEVENT
BEGIN:VEVENT
DTSTART;TZID=America/Chicago:20220429T180000
DTEND;TZID=America/Chicago:20220429T210000
DTSTAMP:20260423T145743
CREATED:20220219T180418Z
LAST-MODIFIED:20220219T180418Z
UID:10390-1651255200-1651266000@nelsonforsd.com
SUMMARY:Spink County Lincoln Day Dinner
DESCRIPTION:
URL:https://nelsonforsd.com/event/spink-county-lincoln-day-dinner/
LOCATION:Roosters Bar and Grill\, 424 N Main St\, Redfield
CATEGORIES:Redfield
END:VEVENT
BEGIN:VEVENT
DTSTART;TZID=America/Chicago:20220430T170000
DTEND;TZID=America/Chicago:20220430T210000
DTSTAMP:20260423T145743
CREATED:20220425T123219Z
LAST-MODIFIED:20220425T123219Z
UID:10471-1651338000-1651352400@nelsonforsd.com
SUMMARY:Lawrence County Lincoln Day Dinner
DESCRIPTION:
URL:https://nelsonforsd.com/event/lawrence-county-lincoln-day-dinner-2/
LOCATION:Spearfish Holiday Inn\, 305 North 27th St\, Spearfish
CATEGORIES:Spearfish
END:VEVENT
BEGIN:VEVENT
DTSTART;TZID=America/Chicago:20220430T170000
DTEND;TZID=America/Chicago:20220430T210000
DTSTAMP:20260423T145743
CREATED:20220425T125807Z
LAST-MODIFIED:20220425T122949Z
UID:10382-1651338000-1651352400@nelsonforsd.com
SUMMARY:Lawrence County Lincoln Day Dinner
DESCRIPTION:
URL:https://nelsonforsd.com/event/lawrence-county-lincoln-day-dinner/
LOCATION:Spearfish Holiday Inn\, 305 North 27th St\, Spearfish
CATEGORIES:Spearfish
END:VEVENT
END:VCALENDAR