BEGIN:VCALENDAR
VERSION:2.0
PRODID:-//Chris Nelson - ECPv6.0.1.1//NONSGML v1.0//EN
CALSCALE:GREGORIAN
METHOD:PUBLISH
X-ORIGINAL-URL:https://nelsonforsd.com
X-WR-CALDESC:Events for Chris Nelson
REFRESH-INTERVAL;VALUE=DURATION:PT1H
X-Robots-Tag:noindex
X-PUBLISHED-TTL:PT1H
BEGIN:VTIMEZONE
TZID:America/Chicago
BEGIN:DAYLIGHT
TZOFFSETFROM:-0600
TZOFFSETTO:-0500
TZNAME:CDT
DTSTART:20220313T080000
END:DAYLIGHT
BEGIN:STANDARD
TZOFFSETFROM:-0500
TZOFFSETTO:-0600
TZNAME:CST
DTSTART:20221106T070000
END:STANDARD
END:VTIMEZONE
BEGIN:VEVENT
DTSTART;TZID=America/Chicago:20220205T100000
DTEND;TZID=America/Chicago:20220205T170000
DTSTAMP:20260423T113617
CREATED:20220206T212944Z
LAST-MODIFIED:20220206T212944Z
UID:10320-1644055200-1644080400@nelsonforsd.com
SUMMARY:Black Hills Stock Show
DESCRIPTION:
URL:https://nelsonforsd.com/event/black-hills-stock-show/
CATEGORIES:Rapid City
END:VEVENT
BEGIN:VEVENT
DTSTART;TZID=America/Chicago:20220223T173000
DTEND;TZID=America/Chicago:20220223T200000
DTSTAMP:20260423T113617
CREATED:20220206T213436Z
LAST-MODIFIED:20220206T213436Z
UID:10322-1645637400-1645646400@nelsonforsd.com
SUMMARY:Hughes County Lincoln Day Dinner
DESCRIPTION:
URL:https://nelsonforsd.com/event/hughes-county-lincoln-day-dinner/
CATEGORIES:Pierre
END:VEVENT
BEGIN:VEVENT
DTSTART;TZID=America/Chicago:20220225T170000
DTEND;TZID=America/Chicago:20220225T200000
DTSTAMP:20260423T113617
CREATED:20220219T172023Z
LAST-MODIFIED:20220219T172023Z
UID:10348-1645808400-1645819200@nelsonforsd.com
SUMMARY:Sioux Empire Home Show
DESCRIPTION:
URL:https://nelsonforsd.com/event/sioux-empire-home-show/
LOCATION:Sioux Falls Convention Center\, Platte\, SD\, United States
CATEGORIES:Sioux Falls
END:VEVENT
BEGIN:VEVENT
DTSTART;VALUE=DATE:20220226
DTEND;VALUE=DATE:20220228
DTSTAMP:20260423T113617
CREATED:20220219T172159Z
LAST-MODIFIED:20220219T172159Z
UID:10350-1645833600-1646006399@nelsonforsd.com
SUMMARY:Sioux Empire Home Show
DESCRIPTION:
URL:https://nelsonforsd.com/event/sioux-empire-home-show-2/
LOCATION:Sioux Falls Convention Center\, Platte\, SD\, United States
CATEGORIES:Sioux Falls
END:VEVENT
END:VCALENDAR