BEGIN:VCALENDAR
VERSION:2.0
PRODID:-//Chris Nelson - ECPv6.0.1.1//NONSGML v1.0//EN
CALSCALE:GREGORIAN
METHOD:PUBLISH
X-WR-CALNAME:Chris Nelson
X-ORIGINAL-URL:https://nelsonforsd.com
X-WR-CALDESC:Events for Chris Nelson
REFRESH-INTERVAL;VALUE=DURATION:PT1H
X-Robots-Tag:noindex
X-PUBLISHED-TTL:PT1H
BEGIN:VTIMEZONE
TZID:America/Chicago
BEGIN:DAYLIGHT
TZOFFSETFROM:-0600
TZOFFSETTO:-0500
TZNAME:CDT
DTSTART:20220313T080000
END:DAYLIGHT
BEGIN:STANDARD
TZOFFSETFROM:-0500
TZOFFSETTO:-0600
TZNAME:CST
DTSTART:20221106T070000
END:STANDARD
END:VTIMEZONE
BEGIN:VEVENT
DTSTART;TZID=America/Chicago:20220324T120000
DTEND;TZID=America/Chicago:20220324T150000
DTSTAMP:20260423T145750
CREATED:20220219T173247Z
LAST-MODIFIED:20220219T173247Z
UID:10360-1648123200-1648134000@nelsonforsd.com
SUMMARY:PUC Public Input Meeting on Summit Carbon Pipeline
DESCRIPTION:
URL:https://nelsonforsd.com/event/puc-public-input-meeting-on-summit-carbon-pipeline-3/
LOCATION:DeSmet Event Center\, 705 Wilder Lane\, DeSmet
CATEGORIES:DeSmet
END:VEVENT
BEGIN:VEVENT
DTSTART;TZID=America/Chicago:20220324T173000
DTEND;TZID=America/Chicago:20220324T203000
DTSTAMP:20260423T145750
CREATED:20220219T173451Z
LAST-MODIFIED:20220219T173451Z
UID:10363-1648143000-1648153800@nelsonforsd.com
SUMMARY:PUC Public Input Meeting on Summit Carbon Pipeline
DESCRIPTION:
URL:https://nelsonforsd.com/event/puc-public-input-meeting-on-summit-carbon-pipeline-4/
LOCATION:Redfield School Auditorium\, 111 E 6th Ave\, Redfield
CATEGORIES:Redfield
END:VEVENT
END:VCALENDAR