BEGIN:VCALENDAR
VERSION:2.0
PRODID:-//Chris Nelson - ECPv6.0.1.1//NONSGML v1.0//EN
CALSCALE:GREGORIAN
METHOD:PUBLISH
X-WR-CALNAME:Chris Nelson
X-ORIGINAL-URL:https://nelsonforsd.com
X-WR-CALDESC:Events for Chris Nelson
REFRESH-INTERVAL;VALUE=DURATION:PT1H
X-Robots-Tag:noindex
X-PUBLISHED-TTL:PT1H
BEGIN:VTIMEZONE
TZID:America/Chicago
BEGIN:DAYLIGHT
TZOFFSETFROM:-0600
TZOFFSETTO:-0500
TZNAME:CDT
DTSTART:20220313T080000
END:DAYLIGHT
BEGIN:STANDARD
TZOFFSETFROM:-0500
TZOFFSETTO:-0600
TZNAME:CST
DTSTART:20221106T070000
END:STANDARD
END:VTIMEZONE
BEGIN:VEVENT
DTSTART;TZID=America/Chicago:20220205T100000
DTEND;TZID=America/Chicago:20220205T170000
DTSTAMP:20260423T100017
CREATED:20220206T212944Z
LAST-MODIFIED:20220206T212944Z
UID:10320-1644055200-1644080400@nelsonforsd.com
SUMMARY:Black Hills Stock Show
DESCRIPTION:
URL:https://nelsonforsd.com/event/black-hills-stock-show/
CATEGORIES:Rapid City
END:VEVENT
END:VCALENDAR